BEGIN:VCALENDAR
VERSION:2.0
PRODID:-//SV Frankenwinheim - ECPv6.0.11//NONSGML v1.0//EN
CALSCALE:GREGORIAN
METHOD:PUBLISH
X-WR-CALNAME:SV Frankenwinheim
X-ORIGINAL-URL:https://sv-frankenwinheim.de
X-WR-CALDESC:Veranstaltungen für SV Frankenwinheim
REFRESH-INTERVAL;VALUE=DURATION:PT1H
X-Robots-Tag:noindex
X-PUBLISHED-TTL:PT1H
BEGIN:VTIMEZONE
TZID:Europe/Berlin
BEGIN:DAYLIGHT
TZOFFSETFROM:+0100
TZOFFSETTO:+0200
TZNAME:CEST
DTSTART:20220327T010000
END:DAYLIGHT
BEGIN:STANDARD
TZOFFSETFROM:+0200
TZOFFSETTO:+0100
TZNAME:CET
DTSTART:20221030T010000
END:STANDARD
END:VTIMEZONE
BEGIN:VEVENT
DTSTART;TZID=Europe/Berlin:20221105T153000
DTEND;TZID=Europe/Berlin:20221105T153000
DTSTAMP:20260425T133806
CREATED:20221113T131308Z
LAST-MODIFIED:20221113T131308Z
UID:791-1667662200-1667662200@sv-frankenwinheim.de
SUMMARY:Bundesliga im Sportheim
DESCRIPTION:Hertha BSC – FC Bayern\n \nSamstag\, 05.11.2022 – 15.30 Uhr \nDas Sportheim ist ab 15 Uhr geöffnet.\nFür das leibliche Wohl ist natürlich bestens gesorgt!
URL:https://sv-frankenwinheim.de/termin/bundesliga-sportheim-20221105/
LOCATION:Sportheimgaststätte\, Schallfelder Straße 29\, Frankenwinheim\, Bayern\, 97447\, Deutschland
CATEGORIES:Übertragungen
ATTACH;FMTTYPE=image/png:https://sv-frankenwinheim.de/wp-content/uploads/2022/05/sv_wappen_platzhalter.png
ORGANIZER;CN="SV%201928%20Frankenwinheim%20e.%20V.":MAILTO:kontakt@sv-f.de
END:VEVENT
BEGIN:VEVENT
DTSTART;TZID=Europe/Berlin:20221112T183000
DTEND;TZID=Europe/Berlin:20221112T183000
DTSTAMP:20260425T133806
CREATED:20221113T131423Z
LAST-MODIFIED:20221113T131746Z
UID:793-1668277800-1668277800@sv-frankenwinheim.de
SUMMARY:Bundesliga im Sportheim
DESCRIPTION:Schalke 04 – FC Bayern\n \nSamstag\, 12.11.2022 – 18.30 Uhr \nDas Sportheim ist ab 18 Uhr geöffnet.\nFür das leibliche Wohl ist natürlich bestens gesorgt!
URL:https://sv-frankenwinheim.de/termin/bundesliga-sportheim-20221112/
CATEGORIES:Übertragungen
ATTACH;FMTTYPE=image/png:https://sv-frankenwinheim.de/wp-content/uploads/2022/05/sv_wappen_platzhalter.png
END:VEVENT
END:VCALENDAR