BEGIN:VCALENDAR
VERSION:2.0
PRODID:-//SV Frankenwinheim - ECPv6.0.11//NONSGML v1.0//EN
CALSCALE:GREGORIAN
METHOD:PUBLISH
X-ORIGINAL-URL:https://sv-frankenwinheim.de
X-WR-CALDESC:Veranstaltungen für SV Frankenwinheim
REFRESH-INTERVAL;VALUE=DURATION:PT1H
X-Robots-Tag:noindex
X-PUBLISHED-TTL:PT1H
BEGIN:VTIMEZONE
TZID:Europe/Berlin
BEGIN:DAYLIGHT
TZOFFSETFROM:+0100
TZOFFSETTO:+0200
TZNAME:CEST
DTSTART:20220327T010000
END:DAYLIGHT
BEGIN:STANDARD
TZOFFSETFROM:+0200
TZOFFSETTO:+0100
TZNAME:CET
DTSTART:20221030T010000
END:STANDARD
END:VTIMEZONE
BEGIN:VEVENT
DTSTART;VALUE=DATE:20220729
DTEND;VALUE=DATE:20220801
DTSTAMP:20260423T063511
CREATED:20220523T094429Z
LAST-MODIFIED:20220701T203957Z
UID:338-1659052800-1659311999@sv-frankenwinheim.de
SUMMARY:Schoppentage am Rosenberg 2022
DESCRIPTION:Weitere Informationen zu Angebot und Festprogramm hier.
URL:https://sv-frankenwinheim.de/termin/weinfest-2022/
LOCATION:Festplatz\, Schallfelder Straße 29\, Frankenwinheim\, Bayern\, 97447\, Deutschland
CATEGORIES:Feste und Feiern
ATTACH;FMTTYPE=image/png:https://sv-frankenwinheim.de/wp-content/uploads/2022/05/sv_wappen_platzhalter.png
ORGANIZER;CN="SV%201928%20Frankenwinheim%20e.%20V.":MAILTO:kontakt@sv-f.de
END:VEVENT
END:VCALENDAR