BEGIN:VCALENDAR
VERSION:2.0
PRODID:-//SV Frankenwinheim - ECPv6.0.11//NONSGML v1.0//EN
CALSCALE:GREGORIAN
METHOD:PUBLISH
X-ORIGINAL-URL:https://sv-frankenwinheim.de
X-WR-CALDESC:Veranstaltungen für SV Frankenwinheim
REFRESH-INTERVAL;VALUE=DURATION:PT1H
X-Robots-Tag:noindex
X-PUBLISHED-TTL:PT1H
BEGIN:VTIMEZONE
TZID:Europe/Berlin
BEGIN:DAYLIGHT
TZOFFSETFROM:+0100
TZOFFSETTO:+0200
TZNAME:CEST
DTSTART:20220327T010000
END:DAYLIGHT
BEGIN:STANDARD
TZOFFSETFROM:+0200
TZOFFSETTO:+0100
TZNAME:CET
DTSTART:20221030T010000
END:STANDARD
END:VTIMEZONE
BEGIN:VEVENT
DTSTART;TZID=Europe/Berlin:20221210T083000
DTEND;TZID=Europe/Berlin:20221210T083000
DTSTAMP:20260423T114331
CREATED:20221203T160200Z
LAST-MODIFIED:20221203T160200Z
UID:822-1670661000-1670661000@sv-frankenwinheim.de
SUMMARY:Jahresabschlusswanderung
DESCRIPTION:Anmeldung bitte bis 08.12.2022\, 18 Uhr bei Roland Detsch!\nWeitere Informationen zur Wanderung hier.
URL:https://sv-frankenwinheim.de/termin/jahresabschlusswanderung-2022/
LOCATION:Sportheim\, Schallfelder Straße 29\, Frankenwinheim\, Bayern\, 97447\, Deutschland
CATEGORIES:Wanderungen
ATTACH;FMTTYPE=image/png:https://sv-frankenwinheim.de/wp-content/uploads/2022/05/sv_wappen_platzhalter.png
ORGANIZER;CN="SV%201928%20Frankenwinheim%20e.%20V.":MAILTO:kontakt@sv-f.de
END:VEVENT
END:VCALENDAR