BEGIN:VCALENDAR
VERSION:2.0
PRODID:-//SV Frankenwinheim - ECPv6.0.11//NONSGML v1.0//EN
CALSCALE:GREGORIAN
METHOD:PUBLISH
X-WR-CALNAME:SV Frankenwinheim
X-ORIGINAL-URL:https://sv-frankenwinheim.de
X-WR-CALDESC:Veranstaltungen für SV Frankenwinheim
REFRESH-INTERVAL;VALUE=DURATION:PT1H
X-Robots-Tag:noindex
X-PUBLISHED-TTL:PT1H
BEGIN:VTIMEZONE
TZID:Europe/Berlin
BEGIN:DAYLIGHT
TZOFFSETFROM:+0100
TZOFFSETTO:+0200
TZNAME:CEST
DTSTART:20220327T010000
END:DAYLIGHT
BEGIN:STANDARD
TZOFFSETFROM:+0200
TZOFFSETTO:+0100
TZNAME:CET
DTSTART:20221030T010000
END:STANDARD
END:VTIMEZONE
BEGIN:VEVENT
DTSTART;TZID=Europe/Berlin:20221007T190000
DTEND;TZID=Europe/Berlin:20221007T190000
DTSTAMP:20260423T011304
CREATED:20220906T213835Z
LAST-MODIFIED:20220906T213906Z
UID:704-1665169200-1665169200@sv-frankenwinheim.de
SUMMARY:Wirtshaussingen
DESCRIPTION:
URL:https://sv-frankenwinheim.de/termin/wirtshaussingen/
LOCATION:Sportheimgaststätte\, Schallfelder Straße 29\, Frankenwinheim\, Bayern\, 97447\, Deutschland
ATTACH;FMTTYPE=image/png:https://sv-frankenwinheim.de/wp-content/uploads/2022/09/wirtshaussingen_thumb.png
ORGANIZER;CN="SV%201928%20Frankenwinheim%20e.%20V.":MAILTO:kontakt@sv-f.de
END:VEVENT
END:VCALENDAR